BEGIN:VCALENDAR
VERSION:2.0
PRODID:-//tgpdenver.org//NONSGML kigkonsult.se iCalcreator 2.30.10//
CALSCALE:GREGORIAN
METHOD:PUBLISH
UID:387f370f-b977-4028-9c05-80f87de63f1e
X-WR-CALDESC:Space for members who have a terminal or chronic illness to sh
 are conversation and support. Facilitated by TGP staff\, Lucas.
X-WR-RELCALID:2cab06ffceb40f3dd60fe1e6846234b9
X-WR-TIMEZONE:America/Denver
BEGIN:VTIMEZONE
TZID:America/Denver
BEGIN:STANDARD
TZNAME:MST
DTSTART:20241103T020000
TZOFFSETFROM:-0600
TZOFFSETTO:-0700
RDATE:20251102T020000
END:STANDARD
BEGIN:DAYLIGHT
TZNAME:MDT
DTSTART:20250309T020000
TZOFFSETFROM:-0700
TZOFFSETTO:-0600
RDATE:20260308T020000
END:DAYLIGHT
END:VTIMEZONE
BEGIN:VEVENT
UID:24b11a89-aa1b-43d4-8d8c-e76b20331192
DTSTAMP:20260424T111753Z
DESCRIPTION:Space for members who have a terminal or chronic illness to sha
 re conversation and support. Facilitated by TGP staff\, Lucas.
DTSTART;TZID=America/Denver:20250423T110000
DTEND;TZID=America/Denver:20250423T120000
LOCATION:
SUMMARY:Terminal Illness Support group
END:VEVENT
END:VCALENDAR
