BEGIN:VCALENDAR
VERSION:2.0
PRODID:-//tgpdenver.org//NONSGML kigkonsult.se iCalcreator 2.30.10//
CALSCALE:GREGORIAN
METHOD:PUBLISH
UID:5888416b-b24f-41dc-8e1f-4c25f5415fa4
X-WR-CALDESC:Bharatanatyam is an Indian classical dance form which uses cre
 ative hand and leg movements. It is a fun \nway to get more cultural expos
 ure and gain a unique experience that you may have never seen before!\n\nI
 nstructor available virtually starting at 2:00
X-WR-RELCALID:a1818f6a96ee247cd82914d87953823b
X-WR-TIMEZONE:America/Denver
BEGIN:VTIMEZONE
TZID:America/Denver
BEGIN:STANDARD
TZNAME:MST
DTSTART:20241103T020000
TZOFFSETFROM:-0600
TZOFFSETTO:-0700
RDATE:20251102T020000
END:STANDARD
BEGIN:DAYLIGHT
TZNAME:MDT
DTSTART:20250309T020000
TZOFFSETFROM:-0700
TZOFFSETTO:-0600
RDATE:20260308T020000
END:DAYLIGHT
END:VTIMEZONE
BEGIN:VEVENT
UID:524c69f3-51cf-4fbd-ae66-317855e08567
DTSTAMP:20260424T113604Z
DESCRIPTION:Bharatanatyam is an Indian classical dance form which uses crea
 tive hand and leg movements. It is a fun \nway to get more cultural exposu
 re and gain a unique experience that you may have never seen before!\n\nIn
 structor available virtually starting at 2:00
DTSTART;TZID=America/Denver:20250425T130000
DTEND;TZID=America/Denver:20250425T150000
LOCATION:3rd Floor Art Room
SUMMARY:Bharatanatyam Dance Class
END:VEVENT
END:VCALENDAR
