BEGIN:VCALENDAR
VERSION:2.0
PRODID:-//tgpdenver.org//NONSGML kigkonsult.se iCalcreator 2.30.10//
CALSCALE:GREGORIAN
METHOD:PUBLISH
UID:9e62eec9-9694-4440-8730-1b1e30795f00
X-WR-CALDESC:Servicios De La Raza offers bilingual services for people impa
 cted by intimate partner violence\, mental health\, and substance use: cas
 e management\, therapy\, and support groups.  Thursdays\, monthly or bimon
 thly.
X-WR-RELCALID:26a56cf734cc65e54950196cc12953e7
X-WR-TIMEZONE:America/Denver
BEGIN:VTIMEZONE
TZID:America/Denver
BEGIN:STANDARD
TZNAME:MST
DTSTART:20241103T020000
TZOFFSETFROM:-0600
TZOFFSETTO:-0700
RDATE:20251102T020000
END:STANDARD
BEGIN:DAYLIGHT
TZNAME:MDT
DTSTART:20250309T020000
TZOFFSETFROM:-0700
TZOFFSETTO:-0600
RDATE:20260308T020000
END:DAYLIGHT
END:VTIMEZONE
BEGIN:VEVENT
UID:d3d6d9be-4867-479f-8d6b-ddbe3c3d7bf2
DTSTAMP:20260424T095448Z
DESCRIPTION:Servicios De La Raza offers bilingual services for people impac
 ted by intimate partner violence\, mental health\, and substance use: case
  management\, therapy\, and support groups.  Thursdays\, monthly or bimont
 hly.
DTSTART;TZID=America/Denver:20250501T130000
DTEND;TZID=America/Denver:20250501T140000
LOCATION:
SUMMARY:VISTAS outreach and intake
END:VEVENT
END:VCALENDAR
