BEGIN:VCALENDAR
VERSION:2.0
PRODID:-//tgpdenver.org//NONSGML kigkonsult.se iCalcreator 2.30.10//
CALSCALE:GREGORIAN
METHOD:PUBLISH
UID:b445c91c-5712-4a54-8c4f-8add4979ced9
X-WR-CALDESC:
X-WR-RELCALID:f171386d3e08f9561dbc5ed6ba97d5f8
X-WR-TIMEZONE:America/Denver
BEGIN:VTIMEZONE
TZID:America/Denver
BEGIN:STANDARD
TZNAME:MST
DTSTART:20241103T020000
TZOFFSETFROM:-0600
TZOFFSETTO:-0700
RDATE:20251102T020000
RDATE:20261101T020000
END:STANDARD
BEGIN:DAYLIGHT
TZNAME:MDT
DTSTART:20250309T020000
TZOFFSETFROM:-0700
TZOFFSETTO:-0600
RDATE:20260308T020000
END:DAYLIGHT
END:VTIMEZONE
BEGIN:VEVENT
UID:e3b9ae8a-99c7-4a2a-b244-efe260afd3df
DTSTAMP:20260424T094651Z
DESCRIPTION:
DTSTART;TZID=America/Denver:20250502T100000
DTEND;TZID=America/Denver:20250502T130000
LOCATION:Art Studio
SUMMARY:STI/HIV Testing
END:VEVENT
END:VCALENDAR
