BEGIN:VCALENDAR
VERSION:2.0
PRODID:-//tgpdenver.org//NONSGML kigkonsult.se iCalcreator 2.30.10//
CALSCALE:GREGORIAN
METHOD:PUBLISH
UID:a9e9c8e7-3a6d-4c62-b5b1-97d86aa4000a
X-WR-CALDESC:Mobile physical health clinic. Rescheduled from usual Monday a
 fternoon time\, this week only.
X-WR-RELCALID:fa16f6927a41a4b7af3a6990ed3e7df6
X-WR-TIMEZONE:America/Denver
BEGIN:VTIMEZONE
TZID:America/Denver
BEGIN:STANDARD
TZNAME:MST
DTSTART:20241103T020000
TZOFFSETFROM:-0600
TZOFFSETTO:-0700
RDATE:20251102T020000
RDATE:20261101T020000
END:STANDARD
BEGIN:DAYLIGHT
TZNAME:MDT
DTSTART:20250309T020000
TZOFFSETFROM:-0700
TZOFFSETTO:-0600
RDATE:20260308T020000
END:DAYLIGHT
END:VTIMEZONE
BEGIN:VEVENT
UID:cc410a47-c5df-462f-8c8d-b8556bb7dff8
DTSTAMP:20260424T095248Z
DESCRIPTION:Mobile physical health clinic. Rescheduled from usual Monday af
 ternoon time\, this week only.
DTSTART;TZID=America/Denver:20250502T091500
DTEND;TZID=America/Denver:20250502T114500
LOCATION:
SUMMARY:HOP Van (Stout St. Mobile Clinic)
END:VEVENT
END:VCALENDAR
