BEGIN:VCALENDAR
VERSION:2.0
PRODID:-//tgpdenver.org//NONSGML kigkonsult.se iCalcreator 2.30.10//
CALSCALE:GREGORIAN
METHOD:PUBLISH
UID:b78756ff-c8b2-44db-a4ad-560d9865a650
X-WR-CALDESC:Play with air dry clay and make items like earrings\, magnets\
 , and more! Led by volunteer\, Drew
X-WR-RELCALID:5f9934ea642d4d3ddcebbc5bc65f278d
X-WR-TIMEZONE:America/Denver
BEGIN:VTIMEZONE
TZID:America/Denver
BEGIN:STANDARD
TZNAME:MST
DTSTART:20241103T020000
TZOFFSETFROM:-0600
TZOFFSETTO:-0700
RDATE:20251102T020000
RDATE:20261101T020000
END:STANDARD
BEGIN:DAYLIGHT
TZNAME:MDT
DTSTART:20250309T020000
TZOFFSETFROM:-0700
TZOFFSETTO:-0600
RDATE:20260308T020000
END:DAYLIGHT
END:VTIMEZONE
BEGIN:VEVENT
UID:26b531e0-dc2b-49a1-bd44-c259c3f8ea20
DTSTAMP:20260424T094611Z
DESCRIPTION:Play with air dry clay and make items like earrings\, magnets\,
  and more! Led by volunteer\, Drew
DTSTART;TZID=America/Denver:20250509T110000
DTEND;TZID=America/Denver:20250509T120000
LOCATION:3rd Floor Art Room
SUMMARY:Clay Class
END:VEVENT
END:VCALENDAR
