BEGIN:VCALENDAR
VERSION:2.0
PRODID:-//tgpdenver.org//NONSGML kigkonsult.se iCalcreator 2.30.10//
CALSCALE:GREGORIAN
METHOD:PUBLISH
UID:c1d73f94-b133-40b3-805a-6c1a99f7d109
X-WR-CALDESC:
X-WR-RELCALID:03ae34833511f275aa606f6faa01ac08
X-WR-TIMEZONE:America/Denver
BEGIN:VTIMEZONE
TZID:America/Denver
BEGIN:STANDARD
TZNAME:MST
DTSTART:20241103T020000
TZOFFSETFROM:-0600
TZOFFSETTO:-0700
RDATE:20251102T020000
RDATE:20261101T020000
END:STANDARD
BEGIN:DAYLIGHT
TZNAME:MDT
DTSTART:20250309T020000
TZOFFSETFROM:-0700
TZOFFSETTO:-0600
RDATE:20260308T020000
END:DAYLIGHT
END:VTIMEZONE
BEGIN:VEVENT
UID:09ce566c-756a-4a6b-ac80-4df8fa6e09dd
DTSTAMP:20260424T094507Z
DESCRIPTION:
DTSTART;TZID=America/Denver:20250512T110000
DTEND;TZID=America/Denver:20250512T120000
LOCATION:3rd Floor Art Room
SUMMARY:Recovery Bingo
END:VEVENT
END:VCALENDAR
