BEGIN:VCALENDAR
VERSION:2.0
PRODID:-//tgpdenver.org//NONSGML kigkonsult.se iCalcreator 2.30.10//
CALSCALE:GREGORIAN
METHOD:PUBLISH
UID:53590ae4-92a9-4ddd-82de-dfaa69e4f4d5
X-WR-CALDESC:
X-WR-RELCALID:131c072c01e25ab3f5d5cbdf789a7b14
X-WR-TIMEZONE:America/Denver
BEGIN:VTIMEZONE
TZID:America/Denver
BEGIN:STANDARD
TZNAME:MST
DTSTART:20241103T020000
TZOFFSETFROM:-0600
TZOFFSETTO:-0700
RDATE:20251102T020000
RDATE:20261101T020000
END:STANDARD
BEGIN:DAYLIGHT
TZNAME:MDT
DTSTART:20250309T020000
TZOFFSETFROM:-0700
TZOFFSETTO:-0600
RDATE:20260308T020000
END:DAYLIGHT
END:VTIMEZONE
BEGIN:VEVENT
UID:442ba35c-7cfb-4496-9d42-40507566116c
DTSTAMP:20260424T094925Z
DESCRIPTION:
DTSTART;TZID=America/Denver:20250514T123000
DTEND;TZID=America/Denver:20250514T133000
LOCATION:3rd Floor Art Room
SUMMARY:Mosaics
END:VEVENT
END:VCALENDAR
