BEGIN:VCALENDAR
VERSION:2.0
PRODID:-//tgpdenver.org//NONSGML kigkonsult.se iCalcreator 2.30.10//
CALSCALE:GREGORIAN
METHOD:PUBLISH
UID:c3c9b5bb-4880-4555-845e-c982783b1187
X-WR-CALDESC:Bharatanatyam is an Indian classical dance form which uses cre
 ative hand and leg movements. It is a fun \nway to get more cultural expos
 ure and gain a unique experience that you may have never seen before!\n\nI
 nstructor available virtually starting at 2:00
X-WR-RELCALID:94da2381e50d2118b52fe2146479bfcd
X-WR-TIMEZONE:America/Denver
BEGIN:VTIMEZONE
TZID:America/Denver
BEGIN:STANDARD
TZNAME:MST
DTSTART:20241103T020000
TZOFFSETFROM:-0600
TZOFFSETTO:-0700
RDATE:20251102T020000
RDATE:20261101T020000
END:STANDARD
BEGIN:DAYLIGHT
TZNAME:MDT
DTSTART:20250309T020000
TZOFFSETFROM:-0700
TZOFFSETTO:-0600
RDATE:20260308T020000
END:DAYLIGHT
END:VTIMEZONE
BEGIN:VEVENT
UID:5d585725-7467-4ca2-8524-347922d5a670
DTSTAMP:20260424T095420Z
DESCRIPTION:Bharatanatyam is an Indian classical dance form which uses crea
 tive hand and leg movements. It is a fun \nway to get more cultural exposu
 re and gain a unique experience that you may have never seen before!\n\nIn
 structor available virtually starting at 2:00
DTSTART;TZID=America/Denver:20250516T130000
DTEND;TZID=America/Denver:20250516T150000
LOCATION:3rd Floor Art Room
SUMMARY:Bharatanatyam Dance Class
END:VEVENT
END:VCALENDAR
