BEGIN:VCALENDAR
VERSION:2.0
PRODID:-//tgpdenver.org//NONSGML kigkonsult.se iCalcreator 2.30.10//
CALSCALE:GREGORIAN
METHOD:PUBLISH
UID:8df05614-1a69-4e84-a1a5-dd17c288b0ac
X-WR-CALDESC:
X-WR-RELCALID:6b63271b9af07ac02eab2c90d8352ef1
X-WR-TIMEZONE:America/Denver
BEGIN:VTIMEZONE
TZID:America/Denver
BEGIN:STANDARD
TZNAME:MST
DTSTART:20241103T020000
TZOFFSETFROM:-0600
TZOFFSETTO:-0700
RDATE:20251102T020000
RDATE:20261101T020000
END:STANDARD
BEGIN:DAYLIGHT
TZNAME:MDT
DTSTART:20250309T020000
TZOFFSETFROM:-0700
TZOFFSETTO:-0600
RDATE:20260308T020000
END:DAYLIGHT
END:VTIMEZONE
BEGIN:VEVENT
UID:0986fd60-cf12-47b1-bba9-750b36d3588e
DTSTAMP:20260424T095328Z
DESCRIPTION:
DTSTART;TZID=America/Denver:20250527T120000
DTEND;TZID=America/Denver:20250527T130000
LOCATION:3rd Floor Art Room
SUMMARY:Sexual Health Bingo
END:VEVENT
END:VCALENDAR
