BEGIN:VCALENDAR
VERSION:2.0
PRODID:-//tgpdenver.org//NONSGML kigkonsult.se iCalcreator 2.30.10//
CALSCALE:GREGORIAN
METHOD:PUBLISH
UID:2122cddc-ff19-4f36-b381-56e3a4cd2721
X-WR-CALDESC:With DHHA: Free vaccines for adults 19 and older\, with or wit
 hout insurance. Covid-19\, Influenza\, Hepatitis A\, Hepatitis B\, HPV (Hu
 man Papalomavirus)\, Pneumococcal\, Meningococal\, Mpox\, and Tdap are ava
 ilable. Please bring your immunization record and insurance card if possib
 le
X-WR-RELCALID:07b293fd94f789bc2443161b7231d8b5
X-WR-TIMEZONE:America/Denver
BEGIN:VTIMEZONE
TZID:America/Denver
BEGIN:STANDARD
TZNAME:MST
DTSTART:20241103T020000
TZOFFSETFROM:-0600
TZOFFSETTO:-0700
RDATE:20251102T020000
RDATE:20261101T020000
END:STANDARD
BEGIN:DAYLIGHT
TZNAME:MDT
DTSTART:20250309T020000
TZOFFSETFROM:-0700
TZOFFSETTO:-0600
RDATE:20260308T020000
END:DAYLIGHT
END:VTIMEZONE
BEGIN:VEVENT
UID:0eb642ea-9050-4825-908b-1d52c6d3104a
DTSTAMP:20260424T095513Z
DESCRIPTION:With DHHA: Free vaccines for adults 19 and older\, with or with
 out insurance. Covid-19\, Influenza\, Hepatitis A\, Hepatitis B\, HPV (Hum
 an Papalomavirus)\, Pneumococcal\, Meningococal\, Mpox\, and Tdap are avai
 lable. Please bring your immunization record and insurance card if possibl
 e
DTSTART;TZID=America/Denver:20250530T100000
DTEND;TZID=America/Denver:20250530T140000
LOCATION:
SUMMARY:Adult Vaccine Clinic
END:VEVENT
END:VCALENDAR
