BEGIN:VCALENDAR
VERSION:2.0
PRODID:-//tgpdenver.org//NONSGML kigkonsult.se iCalcreator 2.30.10//
CALSCALE:GREGORIAN
METHOD:PUBLISH
UID:68e175cf-a561-4a88-abb5-31f9a5f9d89e
X-WR-CALDESC:
X-WR-RELCALID:025254a573885d21c9f3d1a3bb06fad7
X-WR-TIMEZONE:America/Denver
BEGIN:VTIMEZONE
TZID:America/Denver
BEGIN:STANDARD
TZNAME:MST
DTSTART:20241103T020000
TZOFFSETFROM:-0600
TZOFFSETTO:-0700
RDATE:20251102T020000
RDATE:20261101T020000
END:STANDARD
BEGIN:DAYLIGHT
TZNAME:MDT
DTSTART:20250309T020000
TZOFFSETFROM:-0700
TZOFFSETTO:-0600
RDATE:20260308T020000
END:DAYLIGHT
END:VTIMEZONE
BEGIN:VEVENT
UID:c200801b-41bb-4356-afa2-69de5e9705c6
DTSTAMP:20260424T075601Z
DESCRIPTION:
DTSTART;TZID=America/Denver:20250603T093000
DTEND;TZID=America/Denver:20250603T120000
LOCATION:3rd Floor Art Room
SUMMARY:T-Shirt Camp! (please sign up in advance)
END:VEVENT
END:VCALENDAR
