BEGIN:VCALENDAR
VERSION:2.0
PRODID:-//tgpdenver.org//NONSGML kigkonsult.se iCalcreator 2.30.10//
CALSCALE:GREGORIAN
METHOD:PUBLISH
UID:d945c607-ccde-4051-b8aa-29e0c0cfb324
X-WR-CALDESC:
X-WR-RELCALID:5f4fdb78360f3ed7cee4fdc8625b1792
X-WR-TIMEZONE:America/Denver
BEGIN:VTIMEZONE
TZID:America/Denver
BEGIN:STANDARD
TZNAME:MST
DTSTART:20241103T020000
TZOFFSETFROM:-0600
TZOFFSETTO:-0700
RDATE:20251102T020000
RDATE:20261101T020000
END:STANDARD
BEGIN:DAYLIGHT
TZNAME:MDT
DTSTART:20250309T020000
TZOFFSETFROM:-0700
TZOFFSETTO:-0600
RDATE:20260308T020000
END:DAYLIGHT
END:VTIMEZONE
BEGIN:VEVENT
UID:ab4665c4-ec47-424f-b30f-3bb2d4327b4f
DTSTAMP:20260424T075742Z
DESCRIPTION:
DTSTART;TZID=America/Denver:20250604T093000
DTEND;TZID=America/Denver:20250604T120000
LOCATION:3rd Floor Art Room
SUMMARY:T-Shirt Camp! (please sign up in advance)
END:VEVENT
END:VCALENDAR
