BEGIN:VCALENDAR
VERSION:2.0
PRODID:-//tgpdenver.org//NONSGML kigkonsult.se iCalcreator 2.30.10//
CALSCALE:GREGORIAN
METHOD:PUBLISH
UID:fdc6d847-6198-400f-8c4c-64cccfe73372
X-WR-CALDESC:
X-WR-RELCALID:8c86afd5b1569600346ec52eb936aae9
X-WR-TIMEZONE:America/Denver
BEGIN:VTIMEZONE
TZID:America/Denver
BEGIN:STANDARD
TZNAME:MST
DTSTART:20241103T020000
TZOFFSETFROM:-0600
TZOFFSETTO:-0700
RDATE:20251102T020000
RDATE:20261101T020000
END:STANDARD
BEGIN:DAYLIGHT
TZNAME:MDT
DTSTART:20250309T020000
TZOFFSETFROM:-0700
TZOFFSETTO:-0600
RDATE:20260308T020000
END:DAYLIGHT
END:VTIMEZONE
BEGIN:VEVENT
UID:92e4d845-989f-4f06-a70e-85ef5371d040
DTSTAMP:20260424T075410Z
DESCRIPTION:
DTSTART;TZID=America/Denver:20250609T123000
DTEND;TZID=America/Denver:20250609T133000
LOCATION:3rd Floor Art Room
SUMMARY:Sexual Health Bingo
END:VEVENT
END:VCALENDAR
