BEGIN:VCALENDAR
VERSION:2.0
PRODID:-//tgpdenver.org//NONSGML kigkonsult.se iCalcreator 2.30.10//
CALSCALE:GREGORIAN
METHOD:PUBLISH
UID:5574d4ad-cb49-4a25-96e2-7bbd3148972d
X-WR-CALDESC:Discuss what healthy and unhealthy relationships with partners
 \, employers\, or anyone\, look like. Gain tools for healthier connections
 . Learn to stay safer while staying in or leaving a relationship\, both ro
 mantic and non-romantic. Led by Voluntad staff\, who specialize in human t
 rafficking support.
X-WR-RELCALID:26e5c26405074dc26b0240e11eee7768
X-WR-TIMEZONE:America/Denver
BEGIN:VTIMEZONE
TZID:America/Denver
BEGIN:STANDARD
TZNAME:MST
DTSTART:20241103T020000
TZOFFSETFROM:-0600
TZOFFSETTO:-0700
RDATE:20251102T020000
RDATE:20261101T020000
END:STANDARD
BEGIN:DAYLIGHT
TZNAME:MDT
DTSTART:20250309T020000
TZOFFSETFROM:-0700
TZOFFSETTO:-0600
RDATE:20260308T020000
END:DAYLIGHT
END:VTIMEZONE
BEGIN:VEVENT
UID:89f82f54-9da9-46a8-a0a9-087aff5e600e
DTSTAMP:20260424T074903Z
DESCRIPTION:Discuss what healthy and unhealthy relationships with partners\
 , employers\, or anyone\, look like. Gain tools for healthier connections.
  Learn to stay safer while staying in or leaving a relationship\, both rom
 antic and non-romantic. Led by Voluntad staff\, who specialize in human tr
 afficking support.
DTSTART;TZID=America/Denver:20250611T110000
DTEND;TZID=America/Denver:20250611T120000
LOCATION:
SUMMARY:Relationships and Boundaries Support Group
END:VEVENT
END:VCALENDAR
