BEGIN:VCALENDAR
VERSION:2.0
PRODID:-//tgpdenver.org//NONSGML kigkonsult.se iCalcreator 2.30.10//
CALSCALE:GREGORIAN
METHOD:PUBLISH
UID:89e09469-49a8-4ed5-9b26-f4b492cebca9
X-WR-CALDESC:
X-WR-RELCALID:5bd7de0fb006decbeeb6700f8ba08648
X-WR-TIMEZONE:America/Denver
BEGIN:VTIMEZONE
TZID:America/Denver
BEGIN:STANDARD
TZNAME:MST
DTSTART:20241103T020000
TZOFFSETFROM:-0600
TZOFFSETTO:-0700
RDATE:20251102T020000
RDATE:20261101T020000
END:STANDARD
BEGIN:DAYLIGHT
TZNAME:MDT
DTSTART:20250309T020000
TZOFFSETFROM:-0700
TZOFFSETTO:-0600
RDATE:20260308T020000
END:DAYLIGHT
END:VTIMEZONE
BEGIN:VEVENT
UID:597f3c63-7f1e-449e-97d4-f6d6bc958a5f
DTSTAMP:20260424T075157Z
DESCRIPTION:
DTSTART;TZID=America/Denver:20250611T123000
DTEND;TZID=America/Denver:20250611T133000
LOCATION:3rd Floor Art Room
SUMMARY:Mosaics
END:VEVENT
END:VCALENDAR
