BEGIN:VCALENDAR
VERSION:2.0
PRODID:-//tgpdenver.org//NONSGML kigkonsult.se iCalcreator 2.30.10//
CALSCALE:GREGORIAN
METHOD:PUBLISH
UID:c781a371-951b-4663-b0dc-1660bdf26461
X-WR-CALDESC:Talk to peer recovery specialists to learn more about programs
  at Servicios de la Raza\, such as Spanish-language substance use support\
 , acudetox\, art therapy\, and sober community events. The specialists can
  also offer acudetox at TGP to help with symptoms of withdrawal and cravin
 gs for substances. \n*Note: Intimate partner violence specialists from Ser
 vicios de la Raza will join to provide additional outreach 2 Thursdays/mon
 th.
X-WR-RELCALID:4829c4b82b88d4665a01f114195285ab
X-WR-TIMEZONE:America/Denver
BEGIN:VTIMEZONE
TZID:America/Denver
BEGIN:STANDARD
TZNAME:MST
DTSTART:20241103T020000
TZOFFSETFROM:-0600
TZOFFSETTO:-0700
RDATE:20251102T020000
RDATE:20261101T020000
END:STANDARD
BEGIN:DAYLIGHT
TZNAME:MDT
DTSTART:20250309T020000
TZOFFSETFROM:-0700
TZOFFSETTO:-0600
RDATE:20260308T020000
END:DAYLIGHT
END:VTIMEZONE
BEGIN:VEVENT
UID:06cb4396-e4ab-4d23-89b9-94d371571f51
DTSTAMP:20260424T074905Z
DESCRIPTION:Talk to peer recovery specialists to learn more about programs 
 at Servicios de la Raza\, such as Spanish-language substance use support\,
  acudetox\, art therapy\, and sober community events. The specialists can 
 also offer acudetox at TGP to help with symptoms of withdrawal and craving
 s for substances. \n*Note: Intimate partner violence specialists from Serv
 icios de la Raza will join to provide additional outreach 2 Thursdays/mont
 h.
DTSTART;TZID=America/Denver:20250612T140000
DTEND;TZID=America/Denver:20250612T150000
LOCATION:
SUMMARY:Servicios de la Raza Peer Program
END:VEVENT
END:VCALENDAR
