BEGIN:VCALENDAR
VERSION:2.0
PRODID:-//tgpdenver.org//NONSGML kigkonsult.se iCalcreator 2.30.10//
CALSCALE:GREGORIAN
METHOD:PUBLISH
UID:387a7b03-117a-4712-abd7-3d67efed5403
X-WR-CALDESC:
X-WR-RELCALID:3111be9b08752ef496f0bf3ac3a2875a
X-WR-TIMEZONE:America/Denver
BEGIN:VTIMEZONE
TZID:America/Denver
BEGIN:STANDARD
TZNAME:MST
DTSTART:20241103T020000
TZOFFSETFROM:-0600
TZOFFSETTO:-0700
RDATE:20251102T020000
RDATE:20261101T020000
END:STANDARD
BEGIN:DAYLIGHT
TZNAME:MDT
DTSTART:20250309T020000
TZOFFSETFROM:-0700
TZOFFSETTO:-0600
RDATE:20260308T020000
END:DAYLIGHT
END:VTIMEZONE
BEGIN:VEVENT
UID:c75fb9d8-3952-49ee-966d-d23d24310eb5
DTSTAMP:20260424T075434Z
DESCRIPTION:
DTSTART;TZID=America/Denver:20250613T100000
DTEND;TZID=America/Denver:20250613T110000
LOCATION:3rd Floor Art Room
SUMMARY:Senior Art Hour
END:VEVENT
END:VCALENDAR
