BEGIN:VCALENDAR
VERSION:2.0
PRODID:-//tgpdenver.org//NONSGML kigkonsult.se iCalcreator 2.30.10//
CALSCALE:GREGORIAN
METHOD:PUBLISH
UID:5dc4ac9b-4f9e-412e-9546-69bc3ca25e2b
X-WR-CALDESC:
X-WR-RELCALID:902740b45834afbe4fc265cdcd10d781
X-WR-TIMEZONE:America/Denver
BEGIN:VTIMEZONE
TZID:America/Denver
BEGIN:STANDARD
TZNAME:MST
DTSTART:20241103T020000
TZOFFSETFROM:-0600
TZOFFSETTO:-0700
RDATE:20251102T020000
RDATE:20261101T020000
END:STANDARD
BEGIN:DAYLIGHT
TZNAME:MDT
DTSTART:20250309T020000
TZOFFSETFROM:-0700
TZOFFSETTO:-0600
RDATE:20260308T020000
END:DAYLIGHT
END:VTIMEZONE
BEGIN:VEVENT
UID:e5a29782-c861-4341-92dd-5e6aec594e43
DTSTAMP:20260424T075029Z
DESCRIPTION:
DTSTART;TZID=America/Denver:20250623T123000
DTEND;TZID=America/Denver:20250623T133000
LOCATION:3rd Floor Art Room
SUMMARY:Recovery Bingo
END:VEVENT
END:VCALENDAR
