BEGIN:VCALENDAR
VERSION:2.0
PRODID:-//tgpdenver.org//NONSGML kigkonsult.se iCalcreator 2.30.10//
CALSCALE:GREGORIAN
METHOD:PUBLISH
UID:82e4a135-625f-4880-b993-624483423877
X-WR-CALDESC:
X-WR-RELCALID:b97c2fd2c1f6c6a9c1d2297a8a68d4a9
X-WR-TIMEZONE:America/Denver
BEGIN:VTIMEZONE
TZID:America/Denver
BEGIN:STANDARD
TZNAME:MST
DTSTART:20241103T020000
TZOFFSETFROM:-0600
TZOFFSETTO:-0700
RDATE:20251102T020000
RDATE:20261101T020000
END:STANDARD
BEGIN:DAYLIGHT
TZNAME:MDT
DTSTART:20250309T020000
TZOFFSETFROM:-0700
TZOFFSETTO:-0600
RDATE:20260308T020000
END:DAYLIGHT
END:VTIMEZONE
BEGIN:VEVENT
UID:1b7ee76c-3ea4-4ad2-b7ec-752e5b2e641b
DTSTAMP:20260424T055721Z
DESCRIPTION:
DTSTART;TZID=America/Denver:20250709T123000
DTEND;TZID=America/Denver:20250709T133000
LOCATION:3rd Floor Art Room
SUMMARY:Mosaics
END:VEVENT
END:VCALENDAR
