BEGIN:VCALENDAR
VERSION:2.0
PRODID:-//tgpdenver.org//NONSGML kigkonsult.se iCalcreator 2.30.10//
CALSCALE:GREGORIAN
METHOD:PUBLISH
UID:14312ce8-7373-4b77-9169-fe5ed635f558
X-WR-CALDESC:Talk to peer recovery specialists to learn more about programs
  at Servicios de la Raza\, such as Spanish-language substance use support\
 , acudetox\, art therapy\, and sober community events. The specialists can
  also offer acudetox at TGP to help with symptoms of withdrawal and cravin
 gs for substances. \n*Note: Intimate partner violence specialists from Ser
 vicios de la Raza will join to provide additional outreach 2 Thursdays/mon
 th.
X-WR-RELCALID:cf61ae3c0b7488b7e5204e7848550d2a
X-WR-TIMEZONE:America/Denver
BEGIN:VTIMEZONE
TZID:America/Denver
BEGIN:STANDARD
TZNAME:MST
DTSTART:20241103T020000
TZOFFSETFROM:-0600
TZOFFSETTO:-0700
RDATE:20251102T020000
RDATE:20261101T020000
END:STANDARD
BEGIN:DAYLIGHT
TZNAME:MDT
DTSTART:20250309T020000
TZOFFSETFROM:-0700
TZOFFSETTO:-0600
RDATE:20260308T020000
END:DAYLIGHT
END:VTIMEZONE
BEGIN:VEVENT
UID:f1a5eac4-8469-4047-ab11-223df82b8fd3
DTSTAMP:20260424T055712Z
DESCRIPTION:Talk to peer recovery specialists to learn more about programs 
 at Servicios de la Raza\, such as Spanish-language substance use support\,
  acudetox\, art therapy\, and sober community events. The specialists can 
 also offer acudetox at TGP to help with symptoms of withdrawal and craving
 s for substances. \n*Note: Intimate partner violence specialists from Serv
 icios de la Raza will join to provide additional outreach 2 Thursdays/mont
 h.
DTSTART;TZID=America/Denver:20250710T140000
DTEND;TZID=America/Denver:20250710T150000
LOCATION:
SUMMARY:Servicios de la Raza Peer Program
END:VEVENT
END:VCALENDAR
