BEGIN:VCALENDAR
VERSION:2.0
PRODID:-//tgpdenver.org//NONSGML kigkonsult.se iCalcreator 2.30.10//
CALSCALE:GREGORIAN
METHOD:PUBLISH
UID:0007f473-7bd6-49cb-99ec-f6bda54d8ebf
X-WR-CALDESC:
X-WR-RELCALID:d4a9a458ea17e0a2cbd19c4e821f67c9
X-WR-TIMEZONE:America/Denver
BEGIN:VTIMEZONE
TZID:America/Denver
BEGIN:STANDARD
TZNAME:MST
DTSTART:20241103T020000
TZOFFSETFROM:-0600
TZOFFSETTO:-0700
RDATE:20251102T020000
RDATE:20261101T020000
END:STANDARD
BEGIN:DAYLIGHT
TZNAME:MDT
DTSTART:20250309T020000
TZOFFSETFROM:-0700
TZOFFSETTO:-0600
RDATE:20260308T020000
END:DAYLIGHT
END:VTIMEZONE
BEGIN:VEVENT
UID:73804419-06a7-4256-b7d9-46f6a1683af3
DTSTAMP:20260424T055946Z
DESCRIPTION:
DTSTART;TZID=America/Denver:20250711T100000
DTEND;TZID=America/Denver:20250711T110000
LOCATION:3rd Floor Art Room
SUMMARY:Senior Art Hour
END:VEVENT
END:VCALENDAR
