BEGIN:VCALENDAR
VERSION:2.0
PRODID:-//tgpdenver.org//NONSGML kigkonsult.se iCalcreator 2.30.10//
CALSCALE:GREGORIAN
METHOD:PUBLISH
UID:c765619f-1c36-4060-9a1b-c2fcd4213b58
X-WR-CALDESC:
X-WR-RELCALID:2bb6430cf4bac764e53a4221b63d5b16
X-WR-TIMEZONE:America/Denver
BEGIN:VTIMEZONE
TZID:America/Denver
BEGIN:STANDARD
TZNAME:MST
DTSTART:20241103T020000
TZOFFSETFROM:-0600
TZOFFSETTO:-0700
RDATE:20251102T020000
RDATE:20261101T020000
END:STANDARD
BEGIN:DAYLIGHT
TZNAME:MDT
DTSTART:20250309T020000
TZOFFSETFROM:-0700
TZOFFSETTO:-0600
RDATE:20260308T020000
END:DAYLIGHT
END:VTIMEZONE
BEGIN:VEVENT
UID:7f4d8bfb-2fbb-45eb-9bab-cdc61790498c
DTSTAMP:20260424T060121Z
DESCRIPTION:
DTSTART;TZID=America/Denver:20250711T130000
DTEND;TZID=America/Denver:20250711T140000
LOCATION:3rd Floor Art Room
SUMMARY:Heat and Health Event
END:VEVENT
END:VCALENDAR
