BEGIN:VCALENDAR
VERSION:2.0
PRODID:-//tgpdenver.org//NONSGML kigkonsult.se iCalcreator 2.30.10//
CALSCALE:GREGORIAN
METHOD:PUBLISH
UID:63e2f4e3-35b6-4d91-8a09-820cd9ee9eb3
X-WR-CALDESC:
X-WR-RELCALID:83cb893bd08d3cf83c9e9379824a8e4a
X-WR-TIMEZONE:America/Denver
BEGIN:VTIMEZONE
TZID:America/Denver
BEGIN:STANDARD
TZNAME:MST
DTSTART:20241103T020000
TZOFFSETFROM:-0600
TZOFFSETTO:-0700
RDATE:20251102T020000
RDATE:20261101T020000
END:STANDARD
BEGIN:DAYLIGHT
TZNAME:MDT
DTSTART:20250309T020000
TZOFFSETFROM:-0700
TZOFFSETTO:-0600
RDATE:20260308T020000
END:DAYLIGHT
END:VTIMEZONE
BEGIN:VEVENT
UID:d3dc84a0-ff36-4fca-bd55-3967712a4ee5
DTSTAMP:20260424T055342Z
DESCRIPTION:
DTSTART;TZID=America/Denver:20250714T003000
DTEND;TZID=America/Denver:20250714T133000
LOCATION:3rd Floor Art Room
SUMMARY:Recovery Bingo
END:VEVENT
END:VCALENDAR
