BEGIN:VCALENDAR
VERSION:2.0
PRODID:-//tgpdenver.org//NONSGML kigkonsult.se iCalcreator 2.30.10//
CALSCALE:GREGORIAN
METHOD:PUBLISH
UID:d4737b20-41b5-4151-b610-1a0058f36f25
X-WR-CALDESC:
X-WR-RELCALID:641ceb022d551abb452dbe582b7ac02c
X-WR-TIMEZONE:America/Denver
BEGIN:VTIMEZONE
TZID:America/Denver
BEGIN:STANDARD
TZNAME:MST
DTSTART:20241103T020000
TZOFFSETFROM:-0600
TZOFFSETTO:-0700
RDATE:20251102T020000
RDATE:20261101T020000
END:STANDARD
BEGIN:DAYLIGHT
TZNAME:MDT
DTSTART:20250309T020000
TZOFFSETFROM:-0700
TZOFFSETTO:-0600
RDATE:20260308T020000
END:DAYLIGHT
END:VTIMEZONE
BEGIN:VEVENT
UID:40b17ddb-9f2a-4c49-a17f-49aad092a8b2
DTSTAMP:20260424T055916Z
DESCRIPTION:
DTSTART;TZID=America/Denver:20250723T123000
DTEND;TZID=America/Denver:20250723T133000
LOCATION:3rd Floor Art Room
SUMMARY:Mosaics
END:VEVENT
END:VCALENDAR
