BEGIN:VCALENDAR
VERSION:2.0
PRODID:-//tgpdenver.org//NONSGML kigkonsult.se iCalcreator 2.30.10//
CALSCALE:GREGORIAN
METHOD:PUBLISH
UID:8f799f42-6f01-4510-a6b4-99b498c7100a
X-WR-CALDESC:Indigenous/First Nations affinity space\, community support\, 
 conversation and activities specific to Native cultures and customs. Anyon
 e in the First Nations community is welcome. Facilitated by a TGP member\,
  but leadership will be shared by all members who attend.
X-WR-RELCALID:7ade82af1268eae46297fce14b35bd53
X-WR-TIMEZONE:America/Denver
BEGIN:VTIMEZONE
TZID:America/Denver
BEGIN:STANDARD
TZNAME:MST
DTSTART:20241103T020000
TZOFFSETFROM:-0600
TZOFFSETTO:-0700
RDATE:20251102T020000
RDATE:20261101T020000
END:STANDARD
BEGIN:DAYLIGHT
TZNAME:MDT
DTSTART:20250309T020000
TZOFFSETFROM:-0700
TZOFFSETTO:-0600
RDATE:20260308T020000
END:DAYLIGHT
END:VTIMEZONE
BEGIN:VEVENT
UID:76f911de-19bc-4eed-8062-5eb322e15a17
DTSTAMP:20260424T055836Z
DESCRIPTION:Indigenous/First Nations affinity space\, community support\, c
 onversation and activities specific to Native cultures and customs. Anyone
  in the First Nations community is welcome. Facilitated by a TGP member\, 
 but leadership will be shared by all members who attend.
DTSTART;TZID=America/Denver:20250725T110000
DTEND;TZID=America/Denver:20250725T120000
LOCATION:
SUMMARY:Native American Talking Circle
END:VEVENT
END:VCALENDAR
