BEGIN:VCALENDAR
VERSION:2.0
PRODID:-//tgpdenver.org//NONSGML kigkonsult.se iCalcreator 2.30.10//
CALSCALE:GREGORIAN
METHOD:PUBLISH
UID:60ef7427-5530-4435-9d66-d3214435d3cc
X-WR-CALDESC:No instructors or planned activities. Members are welcome to u
 se any materials to work on their own projects.
X-WR-RELCALID:0547497404dd6d4ede691d6a91295a35
X-WR-TIMEZONE:America/Denver
BEGIN:VTIMEZONE
TZID:America/Denver
BEGIN:STANDARD
TZNAME:MST
DTSTART:20241103T020000
TZOFFSETFROM:-0600
TZOFFSETTO:-0700
RDATE:20251102T020000
RDATE:20261101T020000
END:STANDARD
BEGIN:DAYLIGHT
TZNAME:MDT
DTSTART:20250309T020000
TZOFFSETFROM:-0700
TZOFFSETTO:-0600
RDATE:20260308T020000
END:DAYLIGHT
END:VTIMEZONE
BEGIN:VEVENT
UID:f2cc09d1-f4fe-4a46-a3bb-a56009536932
DTSTAMP:20260424T035423Z
DESCRIPTION:No instructors or planned activities. Members are welcome to us
 e any materials to work on their own projects.
DTSTART;TZID=America/Denver:20250801T110000
DTEND;TZID=America/Denver:20250801T120000
LOCATION:3rd Floor Art Room
SUMMARY:Open Art Studio
END:VEVENT
END:VCALENDAR
