BEGIN:VCALENDAR
VERSION:2.0
PRODID:-//tgpdenver.org//NONSGML kigkonsult.se iCalcreator 2.30.10//
CALSCALE:GREGORIAN
METHOD:PUBLISH
UID:60ab99fc-0176-4edc-8c2c-d3d10e3aa89f
X-WR-CALDESC:Members who are enrolled in Medicaid can come by to see what f
 ree health supplies\, mobility devices\, nutrition supplements\, and more 
 they are entitled to receive.
X-WR-RELCALID:1906223e6800123c32b95ca193d389ba
X-WR-TIMEZONE:America/Denver
BEGIN:VTIMEZONE
TZID:America/Denver
BEGIN:STANDARD
TZNAME:MST
DTSTART:20241103T020000
TZOFFSETFROM:-0600
TZOFFSETTO:-0700
RDATE:20251102T020000
RDATE:20261101T020000
END:STANDARD
BEGIN:DAYLIGHT
TZNAME:MDT
DTSTART:20250309T020000
TZOFFSETFROM:-0700
TZOFFSETTO:-0600
RDATE:20260308T020000
END:DAYLIGHT
END:VTIMEZONE
BEGIN:VEVENT
UID:e8db7011-bc61-4e4e-8230-c936076c7104
DTSTAMP:20260424T035916Z
DESCRIPTION:Members who are enrolled in Medicaid can come by to see what fr
 ee health supplies\, mobility devices\, nutrition supplements\, and more t
 hey are entitled to receive.
DTSTART;TZID=America/Denver:20250801T100000
DTEND;TZID=America/Denver:20250801T130000
LOCATION:
SUMMARY:National Medical Supply Event
END:VEVENT
END:VCALENDAR
