BEGIN:VCALENDAR
VERSION:2.0
PRODID:-//tgpdenver.org//NONSGML kigkonsult.se iCalcreator 2.30.10//
CALSCALE:GREGORIAN
METHOD:PUBLISH
UID:9441cb89-06f9-4bf8-a760-8226ece9dbeb
X-WR-CALDESC:Discuss what healthy and unhealthy relationships with partners
 \, employers\, or anyone\, look like. Gain tools for healthier connections
 . Learn to stay safer while staying in or leaving a relationship\, both ro
 mantic and non-romantic. Led by Voluntad staff\, who specialize in human t
 rafficking support.
X-WR-RELCALID:4f9fbdf8b27f30bb7c3ea6fc7db3ac7c
X-WR-TIMEZONE:America/Denver
BEGIN:VTIMEZONE
TZID:America/Denver
BEGIN:STANDARD
TZNAME:MST
DTSTART:20241103T020000
TZOFFSETFROM:-0600
TZOFFSETTO:-0700
RDATE:20251102T020000
RDATE:20261101T020000
END:STANDARD
BEGIN:DAYLIGHT
TZNAME:MDT
DTSTART:20250309T020000
TZOFFSETFROM:-0700
TZOFFSETTO:-0600
RDATE:20260308T020000
END:DAYLIGHT
END:VTIMEZONE
BEGIN:VEVENT
UID:b8579f9d-c0b2-4194-9296-3827b07142a7
DTSTAMP:20260424T035551Z
DESCRIPTION:Discuss what healthy and unhealthy relationships with partners\
 , employers\, or anyone\, look like. Gain tools for healthier connections.
  Learn to stay safer while staying in or leaving a relationship\, both rom
 antic and non-romantic. Led by Voluntad staff\, who specialize in human tr
 afficking support.
DTSTART;TZID=America/Denver:20250806T110000
DTEND;TZID=America/Denver:20250806T120000
LOCATION:
SUMMARY:Relationships and Boundaries Support Group
END:VEVENT
END:VCALENDAR
