BEGIN:VCALENDAR
VERSION:2.0
PRODID:-//tgpdenver.org//NONSGML kigkonsult.se iCalcreator 2.30.10//
CALSCALE:GREGORIAN
METHOD:PUBLISH
UID:929402bf-5f32-4a0e-b2ca-d473541f9d51
X-WR-CALDESC:Servicios de la Raza staff onsite to talk about bilingual dome
 stic violence support services
X-WR-RELCALID:689fd2d39a07b5d2187d7c00b85acf8c
X-WR-TIMEZONE:America/Denver
BEGIN:VTIMEZONE
TZID:America/Denver
BEGIN:STANDARD
TZNAME:MST
DTSTART:20241103T020000
TZOFFSETFROM:-0600
TZOFFSETTO:-0700
RDATE:20251102T020000
RDATE:20261101T020000
END:STANDARD
BEGIN:DAYLIGHT
TZNAME:MDT
DTSTART:20250309T020000
TZOFFSETFROM:-0700
TZOFFSETTO:-0600
RDATE:20260308T020000
END:DAYLIGHT
END:VTIMEZONE
BEGIN:VEVENT
UID:6bac7493-f842-4047-8a8f-d22054a449f8
DTSTAMP:20260424T040111Z
DESCRIPTION:Servicios de la Raza staff onsite to talk about bilingual domes
 tic violence support services
DTSTART;TZID=America/Denver:20250807T130000
DTEND;TZID=America/Denver:20250807T140000
LOCATION:Welcome Area
SUMMARY:VISTAS Outreach
END:VEVENT
END:VCALENDAR
