BEGIN:VCALENDAR
VERSION:2.0
PRODID:-//tgpdenver.org//NONSGML kigkonsult.se iCalcreator 2.30.10//
CALSCALE:GREGORIAN
METHOD:PUBLISH
UID:3a465ed3-083d-4b99-acc1-451d80a8669c
X-WR-CALDESC:Drop-in\, one-on-one\, 60-minute sessions with a therapist fro
 m Colorado Coalition for the Homeless. Open to all members. (English langu
 age only for the time being)
X-WR-RELCALID:7f7290218ef7785c4b913b3e5f212eed
X-WR-TIMEZONE:America/Denver
BEGIN:VTIMEZONE
TZID:America/Denver
BEGIN:STANDARD
TZNAME:MST
DTSTART:20241103T020000
TZOFFSETFROM:-0600
TZOFFSETTO:-0700
RDATE:20251102T020000
RDATE:20261101T020000
END:STANDARD
BEGIN:DAYLIGHT
TZNAME:MDT
DTSTART:20250309T020000
TZOFFSETFROM:-0700
TZOFFSETTO:-0600
RDATE:20260308T020000
END:DAYLIGHT
END:VTIMEZONE
BEGIN:VEVENT
UID:e490691f-ac77-45cb-8ccb-d6bff154cfbc
DTSTAMP:20260424T040101Z
DESCRIPTION:Drop-in\, one-on-one\, 60-minute sessions with a therapist from
  Colorado Coalition for the Homeless. Open to all members. (English langua
 ge only for the time being)
DTSTART;TZID=America/Denver:20250814T090000
DTEND;TZID=America/Denver:20250814T140000
LOCATION:Wellness meeting room
SUMMARY:Mental Health Therapy
END:VEVENT
END:VCALENDAR
