BEGIN:VCALENDAR
VERSION:2.0
PRODID:-//tgpdenver.org//NONSGML kigkonsult.se iCalcreator 2.30.10//
CALSCALE:GREGORIAN
METHOD:PUBLISH
UID:1fc6de98-8c46-4863-a806-d418cd5af759
X-WR-CALDESC:Play\, win prizes\, and learn about either sexual health\, rec
 overy\, or LGBTQIA+ terms.
X-WR-RELCALID:ef0fef10c2054ae3852ae4c804064541
X-WR-TIMEZONE:America/Denver
BEGIN:VTIMEZONE
TZID:America/Denver
BEGIN:STANDARD
TZNAME:MST
DTSTART:20241103T020000
TZOFFSETFROM:-0600
TZOFFSETTO:-0700
RDATE:20251102T020000
RDATE:20261101T020000
END:STANDARD
BEGIN:DAYLIGHT
TZNAME:MDT
DTSTART:20250309T020000
TZOFFSETFROM:-0700
TZOFFSETTO:-0600
RDATE:20260308T020000
END:DAYLIGHT
END:VTIMEZONE
BEGIN:VEVENT
UID:42ffdf9f-2732-4b7e-8dd6-f83f9b78cb8d
DTSTAMP:20260424T035423Z
DESCRIPTION:Play\, win prizes\, and learn about either sexual health\, reco
 very\, or LGBTQIA+ terms.
DTSTART;TZID=America/Denver:20250814T130000
DTEND;TZID=America/Denver:20250814T140000
LOCATION:art room
SUMMARY:Anti-Stigma Bingo
END:VEVENT
END:VCALENDAR
