BEGIN:VCALENDAR
VERSION:2.0
PRODID:-//tgpdenver.org//NONSGML kigkonsult.se iCalcreator 2.30.10//
CALSCALE:GREGORIAN
METHOD:PUBLISH
UID:95b7cf7b-dad0-4844-b934-67b6e459cbbb
X-WR-CALDESC:Play games with others to build the skills you need to find an
 d keep a job!
X-WR-RELCALID:e3218fb8ceefc059115e667fc62c7b4d
X-WR-TIMEZONE:America/Denver
BEGIN:VTIMEZONE
TZID:America/Denver
BEGIN:STANDARD
TZNAME:MST
DTSTART:20241103T020000
TZOFFSETFROM:-0600
TZOFFSETTO:-0700
RDATE:20251102T020000
RDATE:20261101T020000
END:STANDARD
BEGIN:DAYLIGHT
TZNAME:MDT
DTSTART:20250309T020000
TZOFFSETFROM:-0700
TZOFFSETTO:-0600
RDATE:20260308T020000
END:DAYLIGHT
END:VTIMEZONE
BEGIN:VEVENT
UID:b86edffc-bd53-4417-bcfa-552790e58b44
DTSTAMP:20260424T035644Z
DESCRIPTION:Play games with others to build the skills you need to find and
  keep a job!
DTSTART;TZID=America/Denver:20250815T100000
DTEND;TZID=America/Denver:20250815T110000
LOCATION:computer lab and art room
SUMMARY:Job Preparation Game
END:VEVENT
END:VCALENDAR
