BEGIN:VCALENDAR
VERSION:2.0
PRODID:-//tgpdenver.org//NONSGML kigkonsult.se iCalcreator 2.30.10//
CALSCALE:GREGORIAN
METHOD:PUBLISH
UID:79317f26-38c7-47f3-9431-432a29111086
X-WR-CALDESC:No teacher or planned activities. Members are welcome to use a
 ny supplies on-hand to work on their own projects.
X-WR-RELCALID:27aea2802c03ca0d3a13a9ae0cb207ef
X-WR-TIMEZONE:America/Denver
BEGIN:VTIMEZONE
TZID:America/Denver
BEGIN:STANDARD
TZNAME:MST
DTSTART:20241103T020000
TZOFFSETFROM:-0600
TZOFFSETTO:-0700
RDATE:20251102T020000
RDATE:20261101T020000
END:STANDARD
BEGIN:DAYLIGHT
TZNAME:MDT
DTSTART:20250309T020000
TZOFFSETFROM:-0700
TZOFFSETTO:-0600
RDATE:20260308T020000
END:DAYLIGHT
END:VTIMEZONE
BEGIN:VEVENT
UID:68785016-e946-47c7-85ef-aabf39769faa
DTSTAMP:20260424T035545Z
DESCRIPTION:No teacher or planned activities. Members are welcome to use an
 y supplies on-hand to work on their own projects.
DTSTART;TZID=America/Denver:20250829T110000
DTEND;TZID=America/Denver:20250829T120000
LOCATION:3rd Floor Art Room
SUMMARY:Open Art Studio
END:VEVENT
END:VCALENDAR
