BEGIN:VCALENDAR
VERSION:2.0
PRODID:-//tgpdenver.org//NONSGML kigkonsult.se iCalcreator 2.30.10//
CALSCALE:GREGORIAN
METHOD:PUBLISH
UID:87e64fb0-50e9-4e10-b8ea-44a3d2b50d02
X-WR-CALDESC:Learn about housing- focused case management at TGP and housin
 g-related resources in the community. If there are open spaces available\,
  eligible members can sign up for our Case Manager's caseload. *NOTE: We d
 o not have housing vouchers.
X-WR-RELCALID:9862814e7d87f4c5e4adfd5ca78ae885
X-WR-TIMEZONE:America/Denver
BEGIN:VTIMEZONE
TZID:America/Denver
BEGIN:STANDARD
TZNAME:MST
DTSTART:20241103T020000
TZOFFSETFROM:-0600
TZOFFSETTO:-0700
RDATE:20251102T020000
RDATE:20261101T020000
END:STANDARD
BEGIN:DAYLIGHT
TZNAME:MDT
DTSTART:20250309T020000
TZOFFSETFROM:-0700
TZOFFSETTO:-0600
RDATE:20260308T020000
END:DAYLIGHT
END:VTIMEZONE
BEGIN:VEVENT
UID:fb2094bc-0f75-4158-857e-d32e236c9197
DTSTAMP:20260424T021249Z
DESCRIPTION:Learn about housing- focused case management at TGP and housing
 -related resources in the community. If there are open spaces available\, 
 eligible members can sign up for our Case Manager's caseload. *NOTE: We do
  not have housing vouchers.
DTSTART;TZID=America/Denver:20250903T100000
DTEND;TZID=America/Denver:20250903T110000
LOCATION:2nd floor open area
SUMMARY:Info Session: housing-focused case management
END:VEVENT
END:VCALENDAR
