BEGIN:VCALENDAR
VERSION:2.0
PRODID:-//tgpdenver.org//NONSGML kigkonsult.se iCalcreator 2.30.10//
CALSCALE:GREGORIAN
METHOD:PUBLISH
UID:3bce9afb-f416-406b-adcd-aeb8c089b77d
X-WR-CALDESC:Must have Medicaid. First come\, first served. Appointments up
  to 90 minutes: deep cleanings with local \nanesthetic (Novocain)\, regula
 r dental cleanings\, exams\, digital x-rays\, oral cancer screenings\, gum
  \ndisease screenings\, SDF drill-free cavity obliteration\, glass ionomer
  fillings\, denture \ncleanings/adjustments and referrals for advanced car
 e.
X-WR-RELCALID:ef12017600a47a952ff1555b4c8a7498
X-WR-TIMEZONE:America/Denver
BEGIN:VTIMEZONE
TZID:America/Denver
BEGIN:STANDARD
TZNAME:MST
DTSTART:20241103T020000
TZOFFSETFROM:-0600
TZOFFSETTO:-0700
RDATE:20251102T020000
RDATE:20261101T020000
END:STANDARD
BEGIN:DAYLIGHT
TZNAME:MDT
DTSTART:20250309T020000
TZOFFSETFROM:-0700
TZOFFSETTO:-0600
RDATE:20260308T020000
END:DAYLIGHT
END:VTIMEZONE
BEGIN:VEVENT
UID:9857a4dc-48cf-42ab-bdda-33dff1b7e8c8
DTSTAMP:20260424T021319Z
DESCRIPTION:Must have Medicaid. First come\, first served. Appointments up 
 to 90 minutes: deep cleanings with local \nanesthetic (Novocain)\, regular
  dental cleanings\, exams\, digital x-rays\, oral cancer screenings\, gum 
 \ndisease screenings\, SDF drill-free cavity obliteration\, glass ionomer 
 fillings\, denture \ncleanings/adjustments and referrals for advanced care
 .
DTSTART;TZID=America/Denver:20250910T083000
DTEND;TZID=America/Denver:20250910T153000
LOCATION:Wellness area
SUMMARY:Deserving Dental
END:VEVENT
END:VCALENDAR
