BEGIN:VCALENDAR
VERSION:2.0
PRODID:-//tgpdenver.org//NONSGML kigkonsult.se iCalcreator 2.30.10//
CALSCALE:GREGORIAN
METHOD:PUBLISH
UID:5a1cd052-9ec7-402e-b5f6-aad924c548c5
X-WR-CALDESC:Drop-in\, one-on-one\, 60-minute sessions with a therapist fro
 m Colorado Coalition for the Homeless. Open to all members. (English langu
 age only for the time being)
X-WR-RELCALID:bf959070f21a262a5a63187c88b5aab3
X-WR-TIMEZONE:America/Denver
BEGIN:VTIMEZONE
TZID:America/Denver
BEGIN:STANDARD
TZNAME:MST
DTSTART:20241103T020000
TZOFFSETFROM:-0600
TZOFFSETTO:-0700
RDATE:20251102T020000
RDATE:20261101T020000
END:STANDARD
BEGIN:DAYLIGHT
TZNAME:MDT
DTSTART:20250309T020000
TZOFFSETFROM:-0700
TZOFFSETTO:-0600
RDATE:20260308T020000
END:DAYLIGHT
END:VTIMEZONE
BEGIN:VEVENT
UID:08a30b9c-d756-4c46-9617-5fde37fd651e
DTSTAMP:20260424T021517Z
DESCRIPTION:Drop-in\, one-on-one\, 60-minute sessions with a therapist from
  Colorado Coalition for the Homeless. Open to all members. (English langua
 ge only for the time being)
DTSTART;TZID=America/Denver:20250911T090000
DTEND;TZID=America/Denver:20250911T140000
LOCATION:Wellness meeting room
SUMMARY:Mental Health Therapy
END:VEVENT
END:VCALENDAR
