BEGIN:VCALENDAR
VERSION:2.0
PRODID:-//tgpdenver.org//NONSGML kigkonsult.se iCalcreator 2.30.10//
CALSCALE:GREGORIAN
METHOD:PUBLISH
UID:68f35d7c-190c-4a61-984e-a742f8e96c89
X-WR-CALDESC:Talk to peer recovery specialists to learn more about programs
  at Servicios de la Raza\, such as Spanish-language substance use support\
 , acudetox\, art therapy\, and sober community events. The specialists can
  also offer acudetox at TGP to help with symptoms of withdrawal and cravin
 gs for substances. \n*Note: Intimate partner violence specialists from Ser
 vicios de la Raza will join to provide additional outreach 2 Thursdays/mon
 th.
X-WR-RELCALID:2771512f1e7de56e07b0f90b8e6e9f27
X-WR-TIMEZONE:America/Denver
BEGIN:VTIMEZONE
TZID:America/Denver
BEGIN:STANDARD
TZNAME:MST
DTSTART:20241103T020000
TZOFFSETFROM:-0600
TZOFFSETTO:-0700
RDATE:20251102T020000
RDATE:20261101T020000
END:STANDARD
BEGIN:DAYLIGHT
TZNAME:MDT
DTSTART:20250309T020000
TZOFFSETFROM:-0700
TZOFFSETTO:-0600
RDATE:20260308T020000
END:DAYLIGHT
END:VTIMEZONE
BEGIN:VEVENT
UID:82ac6961-30ff-4bb9-93ac-d077c5375819
DTSTAMP:20260424T020950Z
DESCRIPTION:Talk to peer recovery specialists to learn more about programs 
 at Servicios de la Raza\, such as Spanish-language substance use support\,
  acudetox\, art therapy\, and sober community events. The specialists can 
 also offer acudetox at TGP to help with symptoms of withdrawal and craving
 s for substances. \n*Note: Intimate partner violence specialists from Serv
 icios de la Raza will join to provide additional outreach 2 Thursdays/mont
 h.
DTSTART;TZID=America/Denver:20250911T140000
DTEND;TZID=America/Denver:20250911T150000
LOCATION:
SUMMARY:Servicios de la Raza Peer Program
END:VEVENT
END:VCALENDAR
