BEGIN:VCALENDAR
VERSION:2.0
PRODID:-//tgpdenver.org//NONSGML kigkonsult.se iCalcreator 2.30.10//
CALSCALE:GREGORIAN
METHOD:PUBLISH
UID:80e33f5c-f54d-4fbc-bed6-f52eeb8b2e25
X-WR-CALDESC:Relax and have fun by learning simple and easy music with ukul
 ele\, singing\, and more. Led by a Music Therapist from Swallow Hill. No s
 kill or experience needed.
X-WR-RELCALID:e75f8e1deb2c3b091c5a55c761d75777
X-WR-TIMEZONE:America/Denver
BEGIN:VTIMEZONE
TZID:America/Denver
BEGIN:STANDARD
TZNAME:MST
DTSTART:20241103T020000
TZOFFSETFROM:-0600
TZOFFSETTO:-0700
RDATE:20251102T020000
RDATE:20261101T020000
END:STANDARD
BEGIN:DAYLIGHT
TZNAME:MDT
DTSTART:20250309T020000
TZOFFSETFROM:-0700
TZOFFSETTO:-0600
RDATE:20260308T020000
RDATE:20270314T020000
END:DAYLIGHT
END:VTIMEZONE
BEGIN:VEVENT
UID:bd1befec-092c-4747-a953-b2c69c065c59
DTSTAMP:20260424T021358Z
DESCRIPTION:Relax and have fun by learning simple and easy music with ukule
 le\, singing\, and more. Led by a Music Therapist from Swallow Hill. No sk
 ill or experience needed.
DTSTART;TZID=America/Denver:20250923T100000
DTEND;TZID=America/Denver:20250923T110000
LOCATION:Board Room
SUMMARY:Music Hour with Swallow Hill
END:VEVENT
END:VCALENDAR
