BEGIN:VCALENDAR
VERSION:2.0
PRODID:-//tgpdenver.org//NONSGML kigkonsult.se iCalcreator 2.30.10//
CALSCALE:GREGORIAN
METHOD:PUBLISH
UID:192ef7fa-8648-48bc-ab5f-05ac9f808a80
X-WR-CALDESC:Relax and have fun by learning simple and easy music with ukul
 ele\, singing\, and more. Led by a Music Therapist from Swallow Hill. No s
 kill or experience needed.
X-WR-RELCALID:99f2dd999ca33c068a5798301b4a8425
X-WR-TIMEZONE:America/Denver
BEGIN:VTIMEZONE
TZID:America/Denver
BEGIN:STANDARD
TZNAME:MST
DTSTART:20241103T020000
TZOFFSETFROM:-0600
TZOFFSETTO:-0700
RDATE:20251102T020000
RDATE:20261101T020000
END:STANDARD
BEGIN:DAYLIGHT
TZNAME:MDT
DTSTART:20250309T020000
TZOFFSETFROM:-0700
TZOFFSETTO:-0600
RDATE:20260308T020000
RDATE:20270314T020000
END:DAYLIGHT
END:VTIMEZONE
BEGIN:VEVENT
UID:62bfadc9-700b-415b-95f4-6ba77c86badc
DTSTAMP:20260424T003039Z
DESCRIPTION:Relax and have fun by learning simple and easy music with ukule
 le\, singing\, and more. Led by a Music Therapist from Swallow Hill. No sk
 ill or experience needed.
DTSTART;TZID=America/Denver:20251028T100000
DTEND;TZID=America/Denver:20251028T110000
LOCATION:Board Room
SUMMARY:Music Hour with Swallow Hill
END:VEVENT
END:VCALENDAR
