BEGIN:VCALENDAR
VERSION:2.0
PRODID:-//tgpdenver.org//NONSGML kigkonsult.se iCalcreator 2.30.10//
CALSCALE:GREGORIAN
METHOD:PUBLISH
UID:8d147ae5-5582-4bae-9e44-134e9e2cf9cc
X-WR-CALDESC:Must have Medicaid. First come\, first served. Appointments up
  to 90 minutes: deep cleanings with local \nanesthetic (Novocain)\, regula
 r dental cleanings\, exams\, digital x-rays\, oral cancer screenings\, gum
  \ndisease screenings\, SDF drill-free cavity obliteration\, glass ionomer
  fillings\, denture \ncleanings/adjustments and referrals for advanced car
 e.
X-WR-RELCALID:da0136f65c4d8bb8bb521b8a2078591a
X-WR-TIMEZONE:America/Denver
BEGIN:VTIMEZONE
TZID:America/Denver
BEGIN:STANDARD
TZNAME:MST
DTSTART:20251102T020000
TZOFFSETFROM:-0600
TZOFFSETTO:-0700
RDATE:20261101T020000
END:STANDARD
BEGIN:DAYLIGHT
TZNAME:MDT
DTSTART:20250309T020000
TZOFFSETFROM:-0700
TZOFFSETTO:-0600
RDATE:20260308T020000
RDATE:20270314T020000
END:DAYLIGHT
END:VTIMEZONE
BEGIN:VEVENT
UID:edc7f09e-01ce-4557-b586-0c20253759fd
DTSTAMP:20260423T225312Z
DESCRIPTION:Must have Medicaid. First come\, first served. Appointments up 
 to 90 minutes: deep cleanings with local \nanesthetic (Novocain)\, regular
  dental cleanings\, exams\, digital x-rays\, oral cancer screenings\, gum 
 \ndisease screenings\, SDF drill-free cavity obliteration\, glass ionomer 
 fillings\, denture \ncleanings/adjustments and referrals for advanced care
 .
DTSTART;TZID=America/Denver:20251112T083000
DTEND;TZID=America/Denver:20251112T153000
LOCATION:Wellness area
SUMMARY:Deserving Dental
END:VEVENT
END:VCALENDAR
