BEGIN:VCALENDAR
VERSION:2.0
PRODID:-//tgpdenver.org//NONSGML kigkonsult.se iCalcreator 2.30.10//
CALSCALE:GREGORIAN
METHOD:PUBLISH
UID:687a2ef3-8c3b-4761-bad8-74572c004ee1
X-WR-CALDESC:
X-WR-RELCALID:cfae59b458948c578d86a59603f76333
X-WR-TIMEZONE:America/Denver
BEGIN:VTIMEZONE
TZID:America/Denver
BEGIN:STANDARD
TZNAME:MST
DTSTART:20251102T020000
TZOFFSETFROM:-0600
TZOFFSETTO:-0700
RDATE:20261101T020000
END:STANDARD
BEGIN:DAYLIGHT
TZNAME:MDT
DTSTART:20250309T020000
TZOFFSETFROM:-0700
TZOFFSETTO:-0600
RDATE:20260308T020000
RDATE:20270314T020000
END:DAYLIGHT
END:VTIMEZONE
BEGIN:VEVENT
UID:454aaafa-007e-445e-836a-c438a6023538
DTSTAMP:20260423T205405Z
DESCRIPTION:
DTSTART;TZID=America/Denver:20251215T100000
DTEND;TZID=America/Denver:20251215T120000
LOCATION:3rd Floor Art Room
SUMMARY:Hard Times Writing Workshop
END:VEVENT
END:VCALENDAR
