BEGIN:VCALENDAR
VERSION:2.0
PRODID:-//tgpdenver.org//NONSGML kigkonsult.se iCalcreator 2.30.10//
CALSCALE:GREGORIAN
METHOD:PUBLISH
UID:305115e8-a91f-4637-b9f4-fd9c7cf9f4d4
X-WR-CALDESC:
X-WR-RELCALID:92ebd9fc30b3f145efa5d9b8fe341563
X-WR-TIMEZONE:America/Denver
BEGIN:VTIMEZONE
TZID:America/Denver
BEGIN:STANDARD
TZNAME:MST
DTSTART:20251102T020000
TZOFFSETFROM:-0600
TZOFFSETTO:-0700
RDATE:20261101T020000
END:STANDARD
BEGIN:DAYLIGHT
TZNAME:MDT
DTSTART:20250309T020000
TZOFFSETFROM:-0700
TZOFFSETTO:-0600
RDATE:20260308T020000
RDATE:20270314T020000
END:DAYLIGHT
END:VTIMEZONE
BEGIN:VEVENT
UID:a9c951a6-dd68-493e-b8f5-f3d3eb3bed13
DTSTAMP:20260423T190422Z
DESCRIPTION:
DTSTART;TZID=America/Denver:20260121T093000
DTEND;TZID=America/Denver:20260121T113000
LOCATION:Art Room
SUMMARY:Watercolor
END:VEVENT
END:VCALENDAR
