BEGIN:VCALENDAR
VERSION:2.0
PRODID:-//tgpdenver.org//NONSGML kigkonsult.se iCalcreator 2.30.10//
CALSCALE:GREGORIAN
METHOD:PUBLISH
UID:bd1afdb2-63fc-46a8-a685-31eb8aebc008
X-WR-CALDESC:Indigenous/First Nations affinity space\, community support\, 
 conversation and activities specific to Native cultures and customs. Anyon
 e in the First Nations community is welcome. Facilitated by a TGP member\,
  but leadership will be shared by all members who attend.
X-WR-RELCALID:2312a3f8deeec12e9414a3de15df1f77
X-WR-TIMEZONE:America/Denver
BEGIN:VTIMEZONE
TZID:America/Denver
BEGIN:STANDARD
TZNAME:MST
DTSTART:20251102T020000
TZOFFSETFROM:-0600
TZOFFSETTO:-0700
RDATE:20261101T020000
END:STANDARD
BEGIN:DAYLIGHT
TZNAME:MDT
DTSTART:20250309T020000
TZOFFSETFROM:-0700
TZOFFSETTO:-0600
RDATE:20260308T020000
RDATE:20270314T020000
END:DAYLIGHT
END:VTIMEZONE
BEGIN:VEVENT
UID:510d6124-f910-429d-a6a2-5e26010fae87
DTSTAMP:20260423T192023Z
DESCRIPTION:Indigenous/First Nations affinity space\, community support\, c
 onversation and activities specific to Native cultures and customs. Anyone
  in the First Nations community is welcome. Facilitated by a TGP member\, 
 but leadership will be shared by all members who attend.
DTSTART;TZID=America/Denver:20260123T110000
DTEND;TZID=America/Denver:20260123T120000
LOCATION:
SUMMARY:Native American Talking Circle
END:VEVENT
END:VCALENDAR
