BEGIN:VCALENDAR
VERSION:2.0
PRODID:-//tgpdenver.org//NONSGML kigkonsult.se iCalcreator 2.30.10//
CALSCALE:GREGORIAN
METHOD:PUBLISH
UID:b34a40b1-9b4d-4b91-8981-e13edab57333
X-WR-CALDESC:Drop-in\, one-on-one\, 60-minute sessions with a therapist fro
 m Colorado Coalition for the Homeless. Open to all members. (English langu
 age only for the time being)
X-WR-RELCALID:4c4b42d91b958f9651ce0811b55a6f2f
X-WR-TIMEZONE:America/Denver
BEGIN:VTIMEZONE
TZID:America/Denver
BEGIN:STANDARD
TZNAME:MST
DTSTART:20251102T020000
TZOFFSETFROM:-0600
TZOFFSETTO:-0700
RDATE:20261101T020000
END:STANDARD
BEGIN:DAYLIGHT
TZNAME:MDT
DTSTART:20250309T020000
TZOFFSETFROM:-0700
TZOFFSETTO:-0600
RDATE:20260308T020000
RDATE:20270314T020000
END:DAYLIGHT
END:VTIMEZONE
BEGIN:VEVENT
UID:9f5e63e7-b696-4e5c-aec5-7ef9ce760325
DTSTAMP:20260423T173446Z
DESCRIPTION:Drop-in\, one-on-one\, 60-minute sessions with a therapist from
  Colorado Coalition for the Homeless. Open to all members. (English langua
 ge only for the time being)
DTSTART;TZID=America/Denver:20260212T090000
DTEND;TZID=America/Denver:20260212T140000
LOCATION:Wellness meeting room
SUMMARY:Mental Health Therapy
END:VEVENT
END:VCALENDAR
