BEGIN:VCALENDAR
VERSION:2.0
PRODID:-//tgpdenver.org//NONSGML kigkonsult.se iCalcreator 2.30.10//
CALSCALE:GREGORIAN
METHOD:PUBLISH
UID:f06c8a75-4c01-446b-9cf2-18b4fe37299a
X-WR-CALDESC:Indigenous/First Nations affinity space\, community support\, 
 conversation and activities specific to Native cultures and customs. Anyon
 e in the First Nations community is welcome. Facilitated by a TGP member\,
  but leadership will be shared by all members who attend.
X-WR-RELCALID:684b188ce64879120febaf9f0265f34a
X-WR-TIMEZONE:America/Denver
BEGIN:VTIMEZONE
TZID:America/Denver
BEGIN:STANDARD
TZNAME:MST
DTSTART:20251102T020000
TZOFFSETFROM:-0600
TZOFFSETTO:-0700
RDATE:20261101T020000
END:STANDARD
BEGIN:DAYLIGHT
TZNAME:MDT
DTSTART:20250309T020000
TZOFFSETFROM:-0700
TZOFFSETTO:-0600
RDATE:20260308T020000
RDATE:20270314T020000
END:DAYLIGHT
END:VTIMEZONE
BEGIN:VEVENT
UID:4006c16a-b69b-4fd0-b192-6643eff9e5d3
DTSTAMP:20260423T173057Z
DESCRIPTION:Indigenous/First Nations affinity space\, community support\, c
 onversation and activities specific to Native cultures and customs. Anyone
  in the First Nations community is welcome. Facilitated by a TGP member\, 
 but leadership will be shared by all members who attend.
DTSTART;TZID=America/Denver:20260227T110000
DTEND;TZID=America/Denver:20260227T120000
LOCATION:
SUMMARY:Native American Talking Circle
END:VEVENT
END:VCALENDAR
