BEGIN:VCALENDAR
VERSION:2.0
PRODID:-//tgpdenver.org//NONSGML kigkonsult.se iCalcreator 2.30.10//
CALSCALE:GREGORIAN
METHOD:PUBLISH
UID:af2bce8f-7c7f-4718-9a13-578b78d92b4e
X-WR-CALDESC:Drop-in\, one-on-one\, 60-minute sessions with a therapist fro
 m Colorado Coalition for the Homeless. Open to all members. (English langu
 age only for the time being)
X-WR-RELCALID:b875b497cfc828ac35638bef76c19671
X-WR-TIMEZONE:America/Denver
BEGIN:VTIMEZONE
TZID:America/Denver
BEGIN:STANDARD
TZNAME:MST
DTSTART:20251102T020000
TZOFFSETFROM:-0600
TZOFFSETTO:-0700
RDATE:20261101T020000
END:STANDARD
BEGIN:DAYLIGHT
TZNAME:MDT
DTSTART:20260308T020000
TZOFFSETFROM:-0700
TZOFFSETTO:-0600
RDATE:20270314T020000
END:DAYLIGHT
END:VTIMEZONE
BEGIN:VEVENT
UID:7c26036a-ed57-4e8e-92ce-65948ae6f6b7
DTSTAMP:20260423T154722Z
DESCRIPTION:Drop-in\, one-on-one\, 60-minute sessions with a therapist from
  Colorado Coalition for the Homeless. Open to all members. (English langua
 ge only for the time being)
DTSTART;TZID=America/Denver:20260312T090000
DTEND;TZID=America/Denver:20260312T140000
LOCATION:Wellness meeting room
SUMMARY:Mental Health Therapy
END:VEVENT
END:VCALENDAR
