BEGIN:VCALENDAR
VERSION:2.0
PRODID:-//tgpdenver.org//NONSGML kigkonsult.se iCalcreator 2.30.10//
CALSCALE:GREGORIAN
METHOD:PUBLISH
UID:8a58ebcb-4f44-4ada-a45e-c4cb518949c1
X-WR-CALDESC:Indigenous/First Nations affinity space\, community support\, 
 conversation and activities specific to Native cultures and customs. Anyon
 e in the First Nations community is welcome. Facilitated by a TGP member\,
  but leadership will be shared by all members who attend.
X-WR-RELCALID:549219cd1e8a18169a26d125d2432b38
X-WR-TIMEZONE:America/Denver
BEGIN:VTIMEZONE
TZID:America/Denver
BEGIN:STANDARD
TZNAME:MST
DTSTART:20251102T020000
TZOFFSETFROM:-0600
TZOFFSETTO:-0700
RDATE:20261101T020000
END:STANDARD
BEGIN:DAYLIGHT
TZNAME:MDT
DTSTART:20260308T020000
TZOFFSETFROM:-0700
TZOFFSETTO:-0600
RDATE:20270314T020000
END:DAYLIGHT
END:VTIMEZONE
BEGIN:VEVENT
UID:d485b5c4-15a2-4b78-9dec-8c1dc56e0d24
DTSTAMP:20260423T154222Z
DESCRIPTION:Indigenous/First Nations affinity space\, community support\, c
 onversation and activities specific to Native cultures and customs. Anyone
  in the First Nations community is welcome. Facilitated by a TGP member\, 
 but leadership will be shared by all members who attend.
DTSTART;TZID=America/Denver:20260313T110000
DTEND;TZID=America/Denver:20260313T120000
LOCATION:
SUMMARY:Native American Talking Circle
END:VEVENT
END:VCALENDAR
