BEGIN:VCALENDAR
VERSION:2.0
PRODID:-//tgpdenver.org//NONSGML kigkonsult.se iCalcreator 2.30.10//
CALSCALE:GREGORIAN
METHOD:PUBLISH
UID:b8cba915-36fd-4c78-b3bc-d819f9a1ec48
X-WR-CALDESC:Member-led group! Read and discuss poetry. Open to all experie
 nce levels.
X-WR-RELCALID:77d3aa2b48a1d35c27519fda9f4815dd
X-WR-TIMEZONE:America/Denver
BEGIN:VTIMEZONE
TZID:America/Denver
BEGIN:STANDARD
TZNAME:MST
DTSTART:20251102T020000
TZOFFSETFROM:-0600
TZOFFSETTO:-0700
RDATE:20261101T020000
END:STANDARD
BEGIN:DAYLIGHT
TZNAME:MDT
DTSTART:20260308T020000
TZOFFSETFROM:-0700
TZOFFSETTO:-0600
RDATE:20270314T020000
END:DAYLIGHT
END:VTIMEZONE
BEGIN:VEVENT
UID:5ef7e9a9-5a98-449b-93d0-64cc58d99619
DTSTAMP:20260423T140352Z
DESCRIPTION:Member-led group! Read and discuss poetry. Open to all experien
 ce levels.
DTSTART;TZID=America/Denver:20260423T110000
DTEND;TZID=America/Denver:20260423T120000
LOCATION:3rd Floor Art Room
SUMMARY:Poetry Salon
END:VEVENT
END:VCALENDAR
