BEGIN:VCALENDAR
VERSION:2.0
PRODID:-//tgpdenver.org//NONSGML kigkonsult.se iCalcreator 2.30.10//
CALSCALE:GREGORIAN
METHOD:PUBLISH
UID:629c5830-e692-4640-b026-29273fd83fc3
X-WR-CALDESC:
X-WR-RELCALID:6650bafca51714f92d2f9e6a2853bf58
X-WR-TIMEZONE:America/Denver
BEGIN:VTIMEZONE
TZID:America/Denver
BEGIN:STANDARD
TZNAME:MST
DTSTART:20251102T020000
TZOFFSETFROM:-0600
TZOFFSETTO:-0700
RDATE:20261101T020000
RDATE:20271107T020000
END:STANDARD
BEGIN:DAYLIGHT
TZNAME:MDT
DTSTART:20260308T020000
TZOFFSETFROM:-0700
TZOFFSETTO:-0600
RDATE:20270314T020000
END:DAYLIGHT
END:VTIMEZONE
BEGIN:VEVENT
UID:542c01b0-699e-443c-84d0-1131fc730b59
DTSTAMP:20260423T154136Z
DESCRIPTION:
DTSTART;TZID=America/Denver:20260518T100000
DTEND;TZID=America/Denver:20260518T120000
LOCATION:3rd Floor Art Room
SUMMARY:Hard Times Writing Workshop
END:VEVENT
END:VCALENDAR
